BEGIN:VCALENDAR
VERSION:2.0
PRODID:-//eventon.com NONSGML v1.0//EN
CALSCALE:GREGORIAN
METHOD:PUBLISH
BEGIN:VEVENT
UID:69e750108ded9
DTSTAMP:20260421T102312Z
DTSTART:20240822T090000Z
DTEND:20240822T235900Z
LOCATION:
SUMMARY:Book Week - Author Visit
DESCRIPTION:Raewyn Caisley (Author) Will be visiting the students\nhttps://
 kewdaleps.wa.edu.au/events/book-week-author-visit/
URL:https://kewdaleps.wa.edu.au/events/book-week-author-visit/
END:VEVENT
END:VCALENDAR