BEGIN:VCALENDAR
VERSION:2.0
PRODID:-//eventon.com NONSGML v1.0//EN
CALSCALE:GREGORIAN
METHOD:PUBLISH
BEGIN:VEVENT
UID:69e73de3b61b9
DTSTAMP:20260421T090539Z
DTSTART:20240910
DTEND:20240911
LOCATION:
SUMMARY:Choir
DESCRIPTION:Choir to Churchlands Senior High School for rehearsal for Masse
 d Choir Festival\nhttps://kewdaleps.wa.edu.au/events/choir-4/
URL:https://kewdaleps.wa.edu.au/events/choir-4/
END:VEVENT
END:VCALENDAR