BEGIN:VCALENDAR
VERSION:2.0
PRODID:-//eventon.com NONSGML v1.0//EN
CALSCALE:GREGORIAN
METHOD:PUBLISH
BEGIN:VEVENT
UID:69e518a4af4ad
DTSTAMP:20260419T180212Z
DTSTART:20250307T003000Z
DTEND:20250307T010000Z
LOCATION:
SUMMARY:Uniform Shop Open
DESCRIPTION: Uniform Shop open every Friday Morning 8.30 &#8211; 9.00am CA
 SH or CARD\nhttps://kewdaleps.wa.edu.au/events/uniform-shop-open-4/var/ri-3
 .l-L1
URL:https://kewdaleps.wa.edu.au/events/uniform-shop-open-4/var/ri-3.l-L1
END:VEVENT
END:VCALENDAR